BEGIN:VCALENDAR
VERSION:2.0
PRODID:-//ChamberMaster//Event Calendar 2.0//EN
METHOD:PUBLISH
X-PUBLISHED-TTL:P1H
REFRESH-INTERVAL:P1H
CALSCALE:GREGORIAN
BEGIN:VTIMEZONE
TZID:America/New_York
BEGIN:DAYLIGHT
RRULE:FREQ=YEARLY;BYMONTH=3;BYDAY=2SU
DTSTART:20070101T000000
TZOFFSETFROM:-0500
TZOFFSETTO:-0400
TZNAME:Eastern Daylight Time
END:DAYLIGHT
BEGIN:STANDARD
RRULE:FREQ=YEARLY;BYMONTH=11;BYDAY=1SU
DTSTART:20070101T000000
TZOFFSETFROM:-0400
TZOFFSETTO:-0500
TZNAME:Eastern Standard Time
END:STANDARD
END:VTIMEZONE
BEGIN:VEVENT
DTSTART;TZID=America/New_York:20260610T160000
DTEND;TZID=America/New_York:20260610T160000
X-MICROSOFT-CDO-ALLDAYEVENT:FALSE
SUMMARY:How To Multiply Your Sales Without Prospecting
DESCRIPTION:Tired of chasing leads and wondering where your next deal is coming from? \n\nThere’s a better way to do business\, and it’s working by referral only!\n\nJust ask the thousands of agents producing incredible results who generate 100% of their business from past clients\, friends\, and family. \n\nIn this webinar\, you’ll learn exactly how these top agents produce a 6-figure income by using a simple strategy to work a small number of contacts that are motivated\, close reliably\, and refer others just like themselves. \n\nYou won’t want to miss this opportunity to learn what some agents have hailed as “the single most important thing I’ve done to increase business!”\n\nHosted By RETI's Alex Camelio
X-ALT-DESC;FMTTYPE=text/html:Tired of chasing leads and wondering where your next deal is coming from? \n\nThere’s a better way to do business\, and it’s working by referral only!\n\nJust ask the thousands of agents producing incredible results who generate 100% of their business from past clients\, friends\, and family. \n\nIn this webinar\, you’ll learn exactly how these top agents produce a 6-figure income by using a simple strategy to work a small number of contacts that are motivated\, close reliably\, and refer others just like themselves. \n\nYou won’t want to miss this opportunity to learn what some agents have hailed as “the single most important thing I’ve done to increase business!”\n\nHosted By RETI's Alex Camelio
LOCATION:
UID:e.2482.1446486
SEQUENCE:3
DTSTAMP:20260421T103357Z
URL:https://members.aikenmls.com/aaor-events/Details/how-to-multiply-your-sales-without-prospecting-1713215?sourceTypeId=Hub
END:VEVENT
END:VCALENDAR
